BEGIN:VCALENDAR
PRODID:-//AT Content Types//AT Event//EN
VERSION:2.0
METHOD:PUBLISH
BEGIN:VEVENT
DTSTAMP:20260425T184425Z
CREATED:20201210T135748Z
UID:ATEvent-a0522c1644f2438ca26a4396299cc074
LAST-MODIFIED:20201210T143906Z
SUMMARY:2nd online consultation for Abbey 2 CMP
DTSTART:20210111T180000Z
DTEND:20210111T190000Z
DESCRIPTION:Email Simran.Rhandawa@camden.gov.uk for an invitation to j
 oin the 2nd online event to discuss the updated CMP.
CLASS:PUBLIC
END:VEVENT
END:VCALENDAR
