BEGIN:VCALENDAR
PRODID:-//AT Content Types//AT Event//EN
VERSION:2.0
METHOD:PUBLISH
BEGIN:VEVENT
DTSTAMP:20260425T184425Z
CREATED:20201210T135748Z
UID:ATEvent-71cdcd92cb2142a19b13043bc7e8a63c
LAST-MODIFIED:20201210T143906Z
SUMMARY:Online consultation for Abbey 2 CMP
DTSTART:20201217T180000Z
DTEND:20201217T190000Z
DESCRIPTION:Email Simran.Rhandawa@camden.gov.uk for an invitation to j
 oin the online event.
CLASS:PUBLIC
END:VEVENT
END:VCALENDAR
