BEGIN:VCALENDAR
PRODID:-//AT Content Types//AT Event//EN
VERSION:2.0
METHOD:PUBLISH
BEGIN:VEVENT
DTSTAMP:20260425T184155Z
CREATED:20200303T105950Z
UID:ATEvent-8f8175de53c04bb1b94c15a020bf51bc
LAST-MODIFIED:20200303T105950Z
SUMMARY:Abbey 2 drop in
DTSTART:20200303T150000Z
DTEND:20200303T183000Z
DESCRIPTION:Drop into the reception area of the new Abbey flats to vie
 w the latest proposals and leave comments
CLASS:PUBLIC
END:VEVENT
END:VCALENDAR
