BEGIN:VCALENDAR
PRODID:-//AT Content Types//AT Event//EN
VERSION:2.0
METHOD:PUBLISH
BEGIN:VEVENT
DTSTAMP:20260421T064752Z
CREATED:20151007T133139Z
UID:ATEvent-69c51a2a01605c3df35caf1194223b47
LAST-MODIFIED:20151123T094927Z
SUMMARY:Community conversation on Harrington Square BMX facility Proposal
DTSTART:20151123T173000Z
DTEND:20151123T190000Z
DESCRIPTION:@ Dick Collins Hall\, Redhill Street\, London\, NW1 4DJ\n\
 nThis session will be an opportunity for those interested to discuss t
 he proposed development with other local residents and council officer
 s.
CLASS:PUBLIC
END:VEVENT
END:VCALENDAR
