BEGIN:VCALENDAR
PRODID:-//AT Content Types//AT Event//EN
VERSION:2.0
METHOD:PUBLISH
BEGIN:VEVENT
DTSTAMP:20260425T144949Z
CREATED:20200122T115908Z
UID:ATEvent-4bd26c4153c44f8e96eb6104c6d6bd5f
LAST-MODIFIED:20200122T115937Z
SUMMARY:Meet the Contractor Meeting - Phase 2
DTSTART:20200123T183000Z
DTEND:20200123T200000Z
DESCRIPTION:We are now able to invite you to meet some of the staff fr
 om the company who will carry out the work\, Invicta Building Services
 . These will be key staff who will be on site during the works. We hav
 e also invited the Resident Liaison Officer (RLO)\, who will visit eac
 h resident and will be your first point of contact from the contractor
 . There will also be staff from Camden Council available to talk to yo
 u about the project. This meeting will cover the following blocks:\n\n
 â€¢	Southfleet\nâ€¢	Headcorn\nâ€¢	Cheriton\nâ€¢	Chislet\nâ€¢	Leysdown\
 nâ€¢	Fordcombe\nâ€¢	Burmarsh\n\nWe can give you information about:\n\n
 â€¢ Work to your home\nâ€¢ How the work will be carried out safely\nâ€
 ¢ How the work will be organised\nâ€¢ How we will keep you informed as
  work progresses\nâ€¢ Whom to contact if you need any help.
CLASS:PUBLIC
END:VEVENT
END:VCALENDAR
