BEGIN:VCALENDAR
PRODID:-//AT Content Types//AT Event//EN
VERSION:2.0
METHOD:PUBLISH
BEGIN:VEVENT
DTSTAMP:20260425T160329Z
CREATED:20191212T122719Z
UID:ATEvent-d7f390a7f567448cb857071e29d5b18b
LAST-MODIFIED:20250116T100711Z
SUMMARY:Drop in session - Holborn Library
DTSTART:20200129T150000Z
DTEND:20200129T170000Z
DESCRIPTION:Holborn Library\n32-38 Theobalds Road \nWC1X 8PA
CLASS:PUBLIC
END:VEVENT
END:VCALENDAR
