BEGIN:VCALENDAR
PRODID:-//AT Content Types//AT Event//EN
VERSION:2.0
METHOD:PUBLISH
BEGIN:VEVENT
DTSTAMP:20260425T160406Z
CREATED:20191212T122719Z
UID:ATEvent-e55b5d0da04b498bb4def592b3cc0aba
LAST-MODIFIED:20250116T100712Z
SUMMARY:Drop in session - Kentish Town Library
DTSTART:20200117T100000Z
DTEND:20200117T123000Z
DESCRIPTION:Kentish Town Library\n262- 266 Kentish Town Road \nNW5 2AA
 
CLASS:PUBLIC
END:VEVENT
END:VCALENDAR
