BEGIN:VCALENDAR
PRODID:-//AT Content Types//AT Event//EN
VERSION:2.0
METHOD:PUBLISH
BEGIN:VEVENT
DTSTAMP:20260425T160228Z
CREATED:20191212T122719Z
UID:ATEvent-d5c217ec038c4c85bc7dc2659a8c79d3
LAST-MODIFIED:20250116T100712Z
SUMMARY:Drop in session - Pancras Square Library
DTSTART:20200122T170000Z
DTEND:20200122T193000Z
DESCRIPTION:Pancras Square Library \n5 Pancras Square\nN1C 4AG
CLASS:PUBLIC
END:VEVENT
END:VCALENDAR
