BEGIN:VCALENDAR
PRODID:-//AT Content Types//AT Event//EN
VERSION:2.0
METHOD:PUBLISH
BEGIN:VEVENT
DTSTAMP:20260425T160222Z
CREATED:20191212T122720Z
UID:ATEvent-7a4248f6e80b4396b3084171dfb436bf
LAST-MODIFIED:20250116T100712Z
SUMMARY:Drop in session - West Hampstead Library
DTSTART:20200116T150000Z
DTEND:20200116T170000Z
DESCRIPTION:West Hampstead Library\nDennington Park Road\nNW6 1AU
CLASS:PUBLIC
END:VEVENT
END:VCALENDAR
