BEGIN:VCALENDAR
PRODID:-//AT Content Types//AT Event//EN
VERSION:2.0
METHOD:PUBLISH
BEGIN:VEVENT
DTSTAMP:20260425T160013Z
CREATED:20191212T121323Z
UID:ATEvent-93db6393ecf546138385d69b3a23107c
LAST-MODIFIED:20250116T100712Z
SUMMARY:Drop in session - Swiss Cottage Library
DTSTART:20200109T100000Z
DTEND:20200109T123000Z
DESCRIPTION:Swiss Cottage Library\n88 Avenue Road \nNW3 3HA
CLASS:PUBLIC
END:VEVENT
END:VCALENDAR
